BEGIN:VCALENDAR
VERSION:2.0
PRODID:-//Bristol Brewing Company - ECPv6.15.20//NONSGML v1.0//EN
CALSCALE:GREGORIAN
METHOD:PUBLISH
X-WR-CALNAME:Bristol Brewing Company
X-ORIGINAL-URL:https://www.bristolbrewing.com
X-WR-CALDESC:Events for Bristol Brewing Company
REFRESH-INTERVAL;VALUE=DURATION:PT1H
X-Robots-Tag:noindex
X-PUBLISHED-TTL:PT1H
BEGIN:VTIMEZONE
TZID:UTC
BEGIN:STANDARD
TZOFFSETFROM:+0000
TZOFFSETTO:+0000
TZNAME:UTC
DTSTART:20250101T000000
END:STANDARD
END:VTIMEZONE
BEGIN:VEVENT
DTSTART;TZID=UTC:20260329T183000
DTEND;TZID=UTC:20260329T200000
DTSTAMP:20260420T003330
CREATED:20260128T210419Z
LAST-MODIFIED:20260128T210419Z
UID:3842-1774809000-1774814400@www.bristolbrewing.com
SUMMARY:Beer Choir Practice
DESCRIPTION:Do you love to sing? Do you love good company (and maybe a good beer?) Come join our next cycle of Bristol Beer Choir — Tangled Up in Time. We are starting our Time cycle on February 22nd after taking a weekend off for President’s Day. This is a fun\, good-vibes singing group where all voices are welcome! Cost – $50 per concert cycle ($35 for teachers and college students). Must be 21+ to raise a pint\, 18+ to raise your voice with us!\n\n Where: Bristol Barrel Room at Ivywild School When: Sundays\, starting Feb 22 – Apr 5 Practice Starts: 6:30–8:00 pm\n\nNo auditions\, no pressure\, no worries. Whether you’ve sung in choirs for years or just love belting along to the radio\, this is your place.\nBring your friends\, come for the beer and stay for the harmony! We’ll learn new music every 6 weeks and possibly finish with a short public concert at the brewery.\n\nRSVP here – https://forms.gle/YQHxZ92R5kQgmcpr6
URL:https://www.bristolbrewing.com/event/bristol-beer-choir-3-2-2-3-2-3-2-2-2-2-2-3-2-2-2/
LOCATION:The Bristol Barrel Room\, 1604 S. Cascade Avenue\, Colorado Springs\, Colorado\, 80905
CATEGORIES:Special Event
ATTACH;FMTTYPE=image/png:https://www.bristolbrewing.com/wp-content/uploads/2025/09/beerchoir.png
END:VEVENT
BEGIN:VEVENT
DTSTART;TZID=UTC:20260401T183000
DTEND;TZID=UTC:20260401T203000
DTSTAMP:20260420T003330
CREATED:20260116T195507Z
LAST-MODIFIED:20260116T195507Z
UID:3800-1775068200-1775075400@www.bristolbrewing.com
SUMMARY:Onesie Wednesday Trivia Night!
DESCRIPTION:Do you enjoy trivia and drinking beer? Do you own onesie costume pajamas\, stylishly seen here? Then join us for a twist on our weekly trivia night the first Wednesday of each month\, where best-voted onesie gets a sweet prize! (It’s beer) Voting starts at 6:30 before trivia begins.
URL:https://www.bristolbrewing.com/event/trivia-night-18-2-2-2-2-2-2-3-2-2-2-2-2-2/
LOCATION:The Bristol Pub
CATEGORIES:trivia
ATTACH;FMTTYPE=image/png:https://www.bristolbrewing.com/wp-content/uploads/2025/03/ONESIE-TRIVIA.png
END:VEVENT
BEGIN:VEVENT
DTSTART;VALUE=DATE:20260405
DTEND;VALUE=DATE:20260406
DTSTAMP:20260420T003330
CREATED:20260130T205020Z
LAST-MODIFIED:20260130T205020Z
UID:3844-1775347200-1775433599@www.bristolbrewing.com
SUMMARY:The Great Craft Beer Easter Egg Hunt
DESCRIPTION:Colorado Springs front-range area breweries are collaborating (and Bristol is participating again this year) to bring you the most epic city-wide adult Easter egg hunt a beer-lover could dream up. Hunt for “eggs” all over the Springs hidden by your favorite beverage makers\, and claim the prizes inside! Follow our social media accounts for all the details soon to come. The hunt begins on Easter morning!
URL:https://www.bristolbrewing.com/event/the-great-craft-beer-easter-egg-hunt-3/
CATEGORIES:annual event,Community
ATTACH;FMTTYPE=image/jpeg:https://www.bristolbrewing.com/wp-content/uploads/2026/01/2025.jpg
END:VEVENT
BEGIN:VEVENT
DTSTART;TZID=UTC:20260411T190000
DTEND;TZID=UTC:20260411T220000
DTSTAMP:20260420T003330
CREATED:20260116T165801Z
LAST-MODIFIED:20260212T194944Z
UID:3775-1775934000-1775944800@www.bristolbrewing.com
SUMMARY:Bristol's Prohibition Party
DESCRIPTION:Toast the repeal of Prohibition with us! Come in costume to our swingin’ soirée in the Ivywild Gym for an evening of 33¢ Yellow Kite pilsners\, pilsner cocktails and mocktails\, photo ops\, a costume contest\, and scandalous casino games. Get dolled up in anything circa the Roaring 20s or 30s\, but you must be in costume\, and you must know the password to enter (check our social media for hints!) \nSee you at the speakeasy\, saps 🥳
URL:https://www.bristolbrewing.com/event/bristols-prohibition-party-2/
LOCATION:Ivywild School Gym\, 1604 S. Cascade Avenue\, Colorado Springs\, CO\, 80905
CATEGORIES:beer release,annual event,Special Event
ATTACH;FMTTYPE=image/jpeg:https://www.bristolbrewing.com/wp-content/uploads/2026/01/2026-1920x1080-1.jpg
END:VEVENT
BEGIN:VEVENT
DTSTART;VALUE=DATE:20260429
DTEND;VALUE=DATE:20260430
DTSTAMP:20260420T003330
CREATED:20260116T181146Z
LAST-MODIFIED:20260116T181249Z
UID:3778-1777420800-1777507199@www.bristolbrewing.com
SUMMARY:Colorado Pint Day 2026
DESCRIPTION:Starting at 11am on April 29th\, snag the 2025 limited edition Colorado Brewer’s Guild glass for free with the purchase of any pint. Glasses go insanely fast and once they’re gone\, that’s it\, so be sure to get to the Bristol Pub early!
URL:https://www.bristolbrewing.com/event/colorado-pint-day-2026/
LOCATION:The Bristol Pub
CATEGORIES:annual event,Special Event
ATTACH;FMTTYPE=image/png:https://www.bristolbrewing.com/wp-content/uploads/2026/01/PINT-DAY-header.png
END:VEVENT
BEGIN:VEVENT
DTSTART;TZID=UTC:20260509T110000
DTEND;TZID=UTC:20260509T150000
DTSTAMP:20260420T003330
CREATED:20260116T163353Z
LAST-MODIFIED:20260116T163353Z
UID:3772-1778324400-1778338800@www.bristolbrewing.com
SUMMARY:Bristol's Pooch Party
DESCRIPTION:Save the date for Bristol’s Pooch Party! This will be a local pet market and dog/family friendly celebration. As part of our Karma on Tap series\, $1 from each pint sold throughout the event will be donated to the wonderful Harley’s Hope Foundation\, a nonprofit dedicated to preventing animal surrender and euthanasia due to financial hardship.\n\nParty guests will enjoy:\n A local\, pooch-themed vendor market from 11am – 3pm Dog adoptions from National Mill Dog Rescue FREE pup-arazzi photography courtesy of Tom Bonifas Interactive dog & owner activities Canine contests for prizes\, and more!\n\nLeash up your laughing labs and come join the paw-ty on May 9th. Stay tuned for more details to come!\n*If you’re a local dog or pet business and would like to be a vendor\, please reach out to hayleyh@bristolbrewing.com!
URL:https://www.bristolbrewing.com/event/bristols-pooch-party-2/
LOCATION:The Bristol Schoolyard\, 1604 S. Cascade Ave\, Colorado Springs\, 80905\, United States
CATEGORIES:annual event,Karma on Tap,Community,Special Event
ATTACH;FMTTYPE=image/png:https://www.bristolbrewing.com/wp-content/uploads/2026/01/pooch-header.png
END:VEVENT
BEGIN:VEVENT
DTSTART;TZID=UTC:20260530T110000
DTEND;TZID=UTC:20260530T150000
DTSTAMP:20260420T003330
CREATED:20260121T174205Z
LAST-MODIFIED:20260121T174514Z
UID:3814-1780138800-1780153200@www.bristolbrewing.com
SUMMARY:Beers & Gear Expo
DESCRIPTION:Bristol’s Beers & Gear event is an outdoor expo and equipment market outside of Ivywild School in Colorado Springs. It features outdoor vendors\, environmental education\, networking opportunities with local clubs and nonprofits\, live music\, and of course BEER! We host a wide range of groups and businesses specializing in running\, climbing\, camping\, biking\, fishing\, water sports\, winter sports\, and all things outdoor. More details to come. Join the adventure! \n*If you are an outdoor club\, business\, or nonprofit that would like to participate in the expo email hayleyh@bristolbrewing.com for more info or to sign-up!
URL:https://www.bristolbrewing.com/event/beers-gear-expo-2/
LOCATION:The Bristol Schoolyard\, 1604 S. Cascade Ave\, Colorado Springs\, 80905\, United States
CATEGORIES:annual event,Community,Special Event
ATTACH;FMTTYPE=image/png:https://www.bristolbrewing.com/wp-content/uploads/2026/01/Summer-Event-Headers-.png
END:VEVENT
BEGIN:VEVENT
DTSTART;TZID=UTC:20260605T080000
DTEND;TZID=UTC:20260605T170000
DTSTAMP:20260420T003330
CREATED:20260303T192508Z
LAST-MODIFIED:20260303T192508Z
UID:3895-1780646400-1780678800@www.bristolbrewing.com
SUMMARY:Music in the Yard - Rafiel & the Roomshakers
DESCRIPTION:Chill in the Schoolyard with us every Friday in June and July! Summer vibes abound with live music and Bristolicious beer as the day cools off and the week winds down. Come on over!\n\n\nFREE \nBYO chairs\, but no outside food or drinks\nSupervised kids and dogs are always welcome!\n\nThe lineup:June 5 – Rafiel & the RoomshakersJune 12 – SOAPDISHJune 19 – Wirewood StationJune 26 – The FuzzheadsJuly 3 – The El Paso County Outlaw Band\nJuly 10 – The River ArkansasJuly 17 – SofakillersJuly 24 – Red Rocks Rebellion\nJuly 31st – Ty Gibbs
URL:https://www.bristolbrewing.com/event/music-in-the-yard-rafiel-the-roomshakers/
ATTACH;FMTTYPE=image/png:https://www.bristolbrewing.com/wp-content/uploads/2026/03/Music-in-the-Yard-Event-Header.png
END:VEVENT
BEGIN:VEVENT
DTSTART;TZID=UTC:20260612T180000
DTEND;TZID=UTC:20260612T200000
DTSTAMP:20260420T003330
CREATED:20260303T192717Z
LAST-MODIFIED:20260303T192836Z
UID:3898-1781287200-1781294400@www.bristolbrewing.com
SUMMARY:Music in the Yard - SOAPDISH
DESCRIPTION:Chill in the Schoolyard with us every Friday in June and July! Summer vibes abound with live music and Bristolicious beer as the day cools off and the week winds down. Come on over!\n\n\nFREE \nBYO chairs\, but no outside food or drinks\nSupervised kids and dogs are always welcome!\n\nThe lineup:June 5 – Rafiel & the RoomshakersJune 12 – SOAPDISHJune 19 – Wirewood StationJune 26 – The FuzzheadsJuly 3 – The El Paso County Outlaw Band\nJuly 10 – The River ArkansasJuly 17 – SofakillersJuly 24 – Red Rocks Rebellion\nJuly 31st – Ty Gibbs
URL:https://www.bristolbrewing.com/event/music-in-the-yard-soapdish-3/
LOCATION:The Bristol Schoolyard\, 1604 S. Cascade Ave\, Colorado Springs\, 80905\, United States
CATEGORIES:annual event,music,Community
ATTACH;FMTTYPE=image/png:https://www.bristolbrewing.com/wp-content/uploads/2026/03/Music-in-the-Yard-Event-Header.png
END:VEVENT
BEGIN:VEVENT
DTSTART;TZID=UTC:20260619T180000
DTEND;TZID=UTC:20260619T200000
DTSTAMP:20260420T003330
CREATED:20260303T192922Z
LAST-MODIFIED:20260303T192940Z
UID:3900-1781892000-1781899200@www.bristolbrewing.com
SUMMARY:Music in the Yard - Wirewood Station
DESCRIPTION:Chill in the Schoolyard with us every Friday in June and July! Summer vibes abound with live music and Bristolicious beer as the day cools off and the week winds down. Come on over!\n\n\nFREE \nBYO chairs\, but no outside food or drinks\nSupervised kids and dogs are always welcome!\n\nThe lineup:June 5 – Rafiel & the RoomshakersJune 12 – SOAPDISHJune 19 – Wirewood StationJune 26 – The FuzzheadsJuly 3 – The El Paso County Outlaw Band\nJuly 10 – The River ArkansasJuly 17 – SofakillersJuly 24 – Red Rocks Rebellion\nJuly 31st – Ty Gibbs
URL:https://www.bristolbrewing.com/event/music-in-the-yard-wirewoodstation/
LOCATION:The Bristol Schoolyard\, 1604 S. Cascade Ave\, Colorado Springs\, 80905\, United States
CATEGORIES:annual event,music,Community
ATTACH;FMTTYPE=image/png:https://www.bristolbrewing.com/wp-content/uploads/2026/03/Music-in-the-Yard-Event-Header.png
END:VEVENT
BEGIN:VEVENT
DTSTART;TZID=UTC:20260626T180000
DTEND;TZID=UTC:20260626T200000
DTSTAMP:20260420T003330
CREATED:20260303T193022Z
LAST-MODIFIED:20260303T193022Z
UID:3902-1782496800-1782504000@www.bristolbrewing.com
SUMMARY:Music in the Yard - The Fuzzheads
DESCRIPTION:Chill in the Schoolyard with us every Friday in June and July! Summer vibes abound with live music and Bristolicious beer as the day cools off and the week winds down. Come on over!\n\n\nFREE \nBYO chairs\, but no outside food or drinks\nSupervised kids and dogs are always welcome!\n\nThe lineup:June 5 – Rafiel & the RoomshakersJune 12 – SOAPDISHJune 19 – Wirewood StationJune 26 – The FuzzheadsJuly 3 – The El Paso County Outlaw Band\nJuly 10 – The River ArkansasJuly 17 – SofakillersJuly 24 – Red Rocks Rebellion\nJuly 31st – Ty Gibbs
URL:https://www.bristolbrewing.com/event/music-in-the-yard-wirewoodstation-2/
LOCATION:The Bristol Schoolyard\, 1604 S. Cascade Ave\, Colorado Springs\, 80905\, United States
CATEGORIES:annual event,music,Community
ATTACH;FMTTYPE=image/png:https://www.bristolbrewing.com/wp-content/uploads/2026/03/Music-in-the-Yard-Event-Header.png
END:VEVENT
BEGIN:VEVENT
DTSTART;TZID=UTC:20260703T180000
DTEND;TZID=UTC:20260703T200000
DTSTAMP:20260420T003330
CREATED:20260303T193111Z
LAST-MODIFIED:20260303T193111Z
UID:3904-1783101600-1783108800@www.bristolbrewing.com
SUMMARY:Music in the Yard - The El Paso County Outlaw Band
DESCRIPTION:Chill in the Schoolyard with us every Friday in June and July! Summer vibes abound with live music and Bristolicious beer as the day cools off and the week winds down. Come on over!\n\n\nFREE \nBYO chairs\, but no outside food or drinks\nSupervised kids and dogs are always welcome!\n\nThe lineup:June 5 – Rafiel & the RoomshakersJune 12 – SOAPDISHJune 19 – Wirewood StationJune 26 – The FuzzheadsJuly 3 – The El Paso County Outlaw Band\nJuly 10 – The River ArkansasJuly 17 – SofakillersJuly 24 – Red Rocks Rebellion\nJuly 31st – Ty Gibbs
URL:https://www.bristolbrewing.com/event/music-in-the-yard-wirewoodstation-2-2/
LOCATION:The Bristol Schoolyard\, 1604 S. Cascade Ave\, Colorado Springs\, 80905\, United States
CATEGORIES:annual event,music,Community
ATTACH;FMTTYPE=image/png:https://www.bristolbrewing.com/wp-content/uploads/2026/03/Music-in-the-Yard-Event-Header.png
END:VEVENT
BEGIN:VEVENT
DTSTART;TZID=UTC:20260710T180000
DTEND;TZID=UTC:20260710T200000
DTSTAMP:20260420T003330
CREATED:20260303T193316Z
LAST-MODIFIED:20260303T193343Z
UID:3906-1783706400-1783713600@www.bristolbrewing.com
SUMMARY:Music in the Yard - The River Arkansas
DESCRIPTION:Chill in the Schoolyard with us every Friday in June and July! Summer vibes abound with live music and Bristolicious beer as the day cools off and the week winds down. Come on over!\n\n\nFREE \nBYO chairs\, but no outside food or drinks\nSupervised kids and dogs are always welcome!\n\nThe lineup:June 5 – Rafiel & the RoomshakersJune 12 – SOAPDISHJune 19 – Wirewood StationJune 26 – The FuzzheadsJuly 3 – The El Paso County Outlaw Band\nJuly 10 – The River ArkansasJuly 17 – SofakillersJuly 24 – Red Rocks Rebellion\nJuly 31st – Ty Gibbs
URL:https://www.bristolbrewing.com/event/music-in-the-yard-wirewoodstation-2-2-2/
LOCATION:The Bristol Schoolyard\, 1604 S. Cascade Ave\, Colorado Springs\, 80905\, United States
CATEGORIES:annual event,music,Community,Special Event
ATTACH;FMTTYPE=image/png:https://www.bristolbrewing.com/wp-content/uploads/2026/03/Music-in-the-Yard-Event-Header.png
END:VEVENT
BEGIN:VEVENT
DTSTART;TZID=UTC:20260717T180000
DTEND;TZID=UTC:20260717T200000
DTSTAMP:20260420T003330
CREATED:20260303T193439Z
LAST-MODIFIED:20260303T193654Z
UID:3909-1784311200-1784318400@www.bristolbrewing.com
SUMMARY:Music in the Yard - Sofakillers
DESCRIPTION:Chill in the Schoolyard with us every Friday in June and July! Summer vibes abound with live music and Bristolicious beer as the day cools off and the week winds down. Come on over!\n\n\nFREE \nBYO chairs\, but no outside food or drinks\nSupervised kids and dogs are always welcome!\n\nThe lineup:June 5 – Rafiel & the RoomshakersJune 12 – SOAPDISHJune 19 – Wirewood StationJune 26 – The FuzzheadsJuly 3 – The El Paso County Outlaw Band\nJuly 10 – The River ArkansasJuly 17 – SofakillersJuly 24 – Red Rocks Rebellion\nJuly 31st – Ty Gibbs
URL:https://www.bristolbrewing.com/event/music-in-the-yard-sofakillers-3/
LOCATION:The Bristol Schoolyard\, 1604 S. Cascade Ave\, Colorado Springs\, 80905\, United States
CATEGORIES:annual event,music,Community,Special Event
ATTACH;FMTTYPE=image/png:https://www.bristolbrewing.com/wp-content/uploads/2026/03/Music-in-the-Yard-Event-Header.png
END:VEVENT
BEGIN:VEVENT
DTSTART;TZID=UTC:20260724T180000
DTEND;TZID=UTC:20260724T200000
DTSTAMP:20260420T003330
CREATED:20260303T193535Z
LAST-MODIFIED:20260303T193535Z
UID:3911-1784916000-1784923200@www.bristolbrewing.com
SUMMARY:Music in the Yard - Red Rocks Rebellion
DESCRIPTION:Chill in the Schoolyard with us every Friday in June and July! Summer vibes abound with live music and Bristolicious beer as the day cools off and the week winds down. Come on over!\n\n\nFREE \nBYO chairs\, but no outside food or drinks\nSupervised kids and dogs are always welcome!\n\nThe lineup:June 5 – Rafiel & the RoomshakersJune 12 – SOAPDISHJune 19 – Wirewood StationJune 26 – The FuzzheadsJuly 3 – The El Paso County Outlaw Band\nJuly 10 – The River ArkansasJuly 17 – SofakillersJuly 24 – Red Rocks Rebellion\nJuly 31st – Ty Gibbs
URL:https://www.bristolbrewing.com/event/music-in-the-yard-wirewoodstation-2-2-2-2-2/
LOCATION:The Bristol Schoolyard\, 1604 S. Cascade Ave\, Colorado Springs\, 80905\, United States
CATEGORIES:annual event,music,Community,Special Event
ATTACH;FMTTYPE=image/png:https://www.bristolbrewing.com/wp-content/uploads/2026/03/Music-in-the-Yard-Event-Header.png
END:VEVENT
BEGIN:VEVENT
DTSTART;TZID=UTC:20260822T110000
DTEND;TZID=UTC:20260822T150000
DTSTAMP:20260420T003330
CREATED:20260116T192625Z
LAST-MODIFIED:20260212T222905Z
UID:3781-1787396400-1787410800@www.bristolbrewing.com
SUMMARY:Buses at the Brewery
DESCRIPTION:Prost! Stroll the grounds of Ivywild School with the sun overhead and a Red Baron Oktoberfest in hand as you admire a host of iconic VW buses of all styles at our annual Buses at the Brewery event. Live music from The Willow Band and A Carpenter’s Daughter\, foot-long bratwursts\, tie-dye stations\, and a strong stein contest await you and the coveted People’s Choice Award is announced at 2:45pm.
URL:https://www.bristolbrewing.com/event/buses-at-the-brewery-4/
CATEGORIES:annual event,music
ATTACH;FMTTYPE=image/png:https://www.bristolbrewing.com/wp-content/uploads/2026/01/Buses-Header.png
END:VEVENT
BEGIN:VEVENT
DTSTART;TZID=UTC:20260925T180000
DTEND;TZID=UTC:20260926T150000
DTSTAMP:20260420T003330
CREATED:20260119T203300Z
LAST-MODIFIED:20260119T203336Z
UID:3803-1790359200-1790434800@www.bristolbrewing.com
SUMMARY:Oktoberfest at Bristol
DESCRIPTION:Get ready to raise your steins and join the fun at Bristol Brewing as we bring you an authentic two-day celebration of Oktoberfest! On Friday evening\, our 21+ night kicks off with Bavarian dancers\, drinking games and contests\, and a lively polka DJ to keep you entertained all night long under the lights of our festival tent. The fun doesn’t stop there — on Saturday\, bring the whole family from 11am to 3pm for a large-scale\, family-fun celebration. Enjoy delicious German food\, join contests for prizes\, and dance to the tunes of a live polka band. Another incredible Bavarian dance team will take the stage to showcase traditional moves everyone will love. Don’t miss out on this unforgettable Oktoberfest experience right here at Bristol Brewing. More details soon to come. Prost!\n\nLocation: Bristol Brewing Parking Lot and Biergarten\nDates: Friday & Saturday\, 9/25 & 9/26\n\n\nFriday 6pm to 9pm: 21+\nSaturday: Family-Friendly 11am to 3pm
URL:https://www.bristolbrewing.com/event/oktoberfest-at-bristol/
CATEGORIES:Special Event
ATTACH;FMTTYPE=image/png:https://www.bristolbrewing.com/wp-content/uploads/2026/01/OKTOBERFEST-Event.png
END:VEVENT
END:VCALENDAR