BEGIN:VCALENDAR
VERSION:2.0
PRODID:-//Bristol Brewing Company - ECPv6.15.20//NONSGML v1.0//EN
CALSCALE:GREGORIAN
METHOD:PUBLISH
X-WR-CALNAME:Bristol Brewing Company
X-ORIGINAL-URL:https://www.bristolbrewing.com
X-WR-CALDESC:Events for Bristol Brewing Company
REFRESH-INTERVAL;VALUE=DURATION:PT1H
X-Robots-Tag:noindex
X-PUBLISHED-TTL:PT1H
BEGIN:VTIMEZONE
TZID:UTC
BEGIN:STANDARD
TZOFFSETFROM:+0000
TZOFFSETTO:+0000
TZNAME:UTC
DTSTART:20230101T000000
END:STANDARD
END:VTIMEZONE
BEGIN:VEVENT
DTSTART;TZID=UTC:20240703T183000
DTEND;TZID=UTC:20240703T200000
DTSTAMP:20260420T081210
CREATED:20240309T003929Z
LAST-MODIFIED:20240610T162035Z
UID:2955-1720031400-1720036800@www.bristolbrewing.com
SUMMARY:Trivia Night
DESCRIPTION:Join us in the Wildcat Room on Wednesday nights at 6:30 for trivia hosted by our own Zach Taggart\, and battle for gift card prizes while you have a some Bristol beers!
URL:https://www.bristolbrewing.com/event/trivia-night-12/
LOCATION:The Bristol Pub
CATEGORIES:trivia
ATTACH;FMTTYPE=image/png:https://www.bristolbrewing.com/wp-content/uploads/2024/03/Trivia-Night-Event-Image-1.png
END:VEVENT
BEGIN:VEVENT
DTSTART;TZID=UTC:20240704T180000
DTEND;TZID=UTC:20240704T200000
DTSTAMP:20260420T081210
CREATED:20240624T153834Z
LAST-MODIFIED:20240624T153834Z
UID:3087-1720116000-1720123200@www.bristolbrewing.com
SUMMARY:Summer School with x1039
DESCRIPTION:Join X1039 on the Playground every Thursday\, all summer long! We’ll have your chance at winning awesome prizes\, including BEER FOR A YEAR and CONCERT TICKETS! See you there!
URL:https://www.bristolbrewing.com/event/summer-school-with-x1039-2/
CATEGORIES:music
ATTACH;FMTTYPE=image/jpeg:https://www.bristolbrewing.com/wp-content/uploads/2024/06/448003439_1076273170653790_5748959983345330011_n.jpg
END:VEVENT
BEGIN:VEVENT
DTSTART;TZID=UTC:20240705T180000
DTEND;TZID=UTC:20240705T200000
DTSTAMP:20260420T081210
CREATED:20240610T164108Z
LAST-MODIFIED:20240610T164108Z
UID:3036-1720202400-1720209600@www.bristolbrewing.com
SUMMARY:Music in the Yard: The River Arkansas
DESCRIPTION:Chill in the Schoolyard with us every Friday in June and July! Summer vibes abound with live music and Bristolicious beer specials as the day cools off and the week winds down. Come on over!\n–Free–BYO chairs\, but not food or drinks–Supervised kids and dogs are always welcome!
URL:https://www.bristolbrewing.com/event/music-in-the-yard-the-river-arkansas/
LOCATION:The Bristol Schoolyard\, 1604 S. Cascade Ave\, Colorado Springs\, 80905\, United States
CATEGORIES:music
ATTACH;FMTTYPE=image/jpeg:https://www.bristolbrewing.com/wp-content/uploads/2024/06/music.jpg
END:VEVENT
BEGIN:VEVENT
DTSTART;TZID=UTC:20240710T183000
DTEND;TZID=UTC:20240710T200000
DTSTAMP:20260420T081210
CREATED:20240628T193059Z
LAST-MODIFIED:20240628T193332Z
UID:3146-1720636200-1720641600@www.bristolbrewing.com
SUMMARY:Trivia Night
DESCRIPTION:Join us in the Wildcat Room on Wednesday nights at 6:30 for trivia hosted by our own Zach Taggart\, and battle for gift card prizes while you have a some Bristol beers!
URL:https://www.bristolbrewing.com/event/trivia-night-15/
LOCATION:The Bristol Pub
CATEGORIES:trivia
ATTACH;FMTTYPE=image/png:https://www.bristolbrewing.com/wp-content/uploads/2024/03/Trivia-Night-Event-Image-1.png
END:VEVENT
BEGIN:VEVENT
DTSTART;TZID=UTC:20240711T180000
DTEND;TZID=UTC:20240711T200000
DTSTAMP:20260420T081210
CREATED:20240624T153930Z
LAST-MODIFIED:20240624T154202Z
UID:3089-1720720800-1720728000@www.bristolbrewing.com
SUMMARY:Summer School with x1039
DESCRIPTION:Join X1039 in the schoolyard every Thursday\, all summer long! We’ll have your chance at winning awesome prizes\, including BEER FOR A YEAR and CONCERT TICKETS! See you there!
URL:https://www.bristolbrewing.com/event/summer-school-with-x1039-3/
CATEGORIES:music
ATTACH;FMTTYPE=image/jpeg:https://www.bristolbrewing.com/wp-content/uploads/2024/06/448003439_1076273170653790_5748959983345330011_n.jpg
END:VEVENT
BEGIN:VEVENT
DTSTART;TZID=UTC:20240712T180000
DTEND;TZID=UTC:20240712T200000
DTSTAMP:20260420T081210
CREATED:20240610T172347Z
LAST-MODIFIED:20240619T215046Z
UID:3038-1720807200-1720814400@www.bristolbrewing.com
SUMMARY:Music in the Yard: Father Bacon and the Sizzle
DESCRIPTION:Chill in the Schoolyard with us every Friday in June and July! Summer vibes abound with live music and Bristolicious beer specials as the day cools off and the week winds down. Come on over!\n–Free–BYO chairs\, but not food or drinks–Supervised kids and dogs are always welcome!
URL:https://www.bristolbrewing.com/event/music-in-the-yard-father-bacon-and-the-sizzle/
LOCATION:The Bristol Schoolyard\, 1604 S. Cascade Ave\, Colorado Springs\, 80905\, United States
CATEGORIES:music
ATTACH;FMTTYPE=image/jpeg:https://www.bristolbrewing.com/wp-content/uploads/2024/06/music.jpg
END:VEVENT
BEGIN:VEVENT
DTSTART;TZID=UTC:20240717T183000
DTEND;TZID=UTC:20240717T200000
DTSTAMP:20260420T081210
CREATED:20240628T193414Z
LAST-MODIFIED:20240628T193414Z
UID:3149-1721241000-1721246400@www.bristolbrewing.com
SUMMARY:Trivia Night
DESCRIPTION:Join us in the Wildcat Room on Wednesday nights at 6:30 for trivia hosted by our own Zach Taggart\, and battle for gift card prizes while you have a some Bristol beers!
URL:https://www.bristolbrewing.com/event/trivia-night-15-2/
LOCATION:The Bristol Pub
CATEGORIES:trivia
ATTACH;FMTTYPE=image/png:https://www.bristolbrewing.com/wp-content/uploads/2024/03/Trivia-Night-Event-Image-1.png
END:VEVENT
BEGIN:VEVENT
DTSTART;TZID=UTC:20240718T180000
DTEND;TZID=UTC:20240718T200000
DTSTAMP:20260420T081210
CREATED:20240624T154334Z
LAST-MODIFIED:20240624T154334Z
UID:3094-1721325600-1721332800@www.bristolbrewing.com
SUMMARY:Summer School with x1039
DESCRIPTION:Join X1039 in the schoolyard every Thursday\, all summer long! We’ll have your chance at winning awesome prizes\, including BEER FOR A YEAR and CONCERT TICKETS! See you there!
URL:https://www.bristolbrewing.com/event/summer-school-with-x1039-4/
CATEGORIES:music
ATTACH;FMTTYPE=image/jpeg:https://www.bristolbrewing.com/wp-content/uploads/2024/06/448003439_1076273170653790_5748959983345330011_n.jpg
END:VEVENT
BEGIN:VEVENT
DTSTART;TZID=UTC:20240719T180000
DTEND;TZID=UTC:20240719T200000
DTSTAMP:20260420T081210
CREATED:20240610T172616Z
LAST-MODIFIED:20240610T172616Z
UID:3040-1721412000-1721419200@www.bristolbrewing.com
SUMMARY:Music in the Yard: WireWood Station
DESCRIPTION:Chill in the Schoolyard with us every Friday in June and July! Summer vibes abound with live music and Bristolicious beer specials as the day cools off and the week winds down. Come on over!\n–Free–BYO chairs\, but not food or drinks–Supervised kids and dogs are always welcome!
URL:https://www.bristolbrewing.com/event/music-in-the-yard-wirewood-station/
LOCATION:The Bristol Schoolyard\, 1604 S. Cascade Ave\, Colorado Springs\, 80905\, United States
CATEGORIES:music
ATTACH;FMTTYPE=image/jpeg:https://www.bristolbrewing.com/wp-content/uploads/2024/06/music.jpg
END:VEVENT
BEGIN:VEVENT
DTSTART;TZID=UTC:20240724T183000
DTEND;TZID=UTC:20240724T200000
DTSTAMP:20260420T081210
CREATED:20240628T193510Z
LAST-MODIFIED:20240628T193510Z
UID:3151-1721845800-1721851200@www.bristolbrewing.com
SUMMARY:Trivia Night
DESCRIPTION:Join us in the Wildcat Room on Wednesday nights at 6:30 for trivia hosted by our own Zach Taggart\, and battle for gift card prizes while you have a some Bristol beers!
URL:https://www.bristolbrewing.com/event/trivia-night-15-2-2/
LOCATION:The Bristol Pub
CATEGORIES:trivia
ATTACH;FMTTYPE=image/png:https://www.bristolbrewing.com/wp-content/uploads/2024/03/Trivia-Night-Event-Image-1.png
END:VEVENT
BEGIN:VEVENT
DTSTART;TZID=UTC:20240724T190000
DTEND;TZID=UTC:20240724T210000
DTSTAMP:20260420T081210
CREATED:20240705T205406Z
LAST-MODIFIED:20240705T205406Z
UID:3199-1721847600-1721854800@www.bristolbrewing.com
SUMMARY:Bristol's Sip With Schnip
DESCRIPTION:Save the date for Sip with Schnip\, from 6-8 p.m. in the Bristol Barrel Room. Get a pulled pork sandwich from Spark BBQ + a beer + a piece of bourbon pecan pie (from Gold Star Bakery) for the screaming deal of just $16. Bristol will donate $1 from each pint to a hospitality industry-related nonprofit (TBD). And because he had so much fun guest beertending recently for Bristol’s 30th anniversary party\, he’ll be back behind the bar again during the event to pour your beer himself!
URL:https://www.bristolbrewing.com/event/bristols-sip-with-schnip/
ATTACH;FMTTYPE=image/jpeg:https://www.bristolbrewing.com/wp-content/uploads/2024/07/IMG_4267.jpg
END:VEVENT
BEGIN:VEVENT
DTSTART;TZID=UTC:20240725T180000
DTEND;TZID=UTC:20240725T200000
DTSTAMP:20260420T081210
CREATED:20240624T194117Z
LAST-MODIFIED:20240624T194117Z
UID:3104-1721930400-1721937600@www.bristolbrewing.com
SUMMARY:Summer School with x1039
DESCRIPTION:Join X1039 in the schoolyard every Thursday\, all summer long! We’ll have your chance at winning awesome prizes\, including BEER FOR A YEAR and CONCERT TICKETS! See you there!
URL:https://www.bristolbrewing.com/event/summer-school-with-x1039-5/
CATEGORIES:music
ATTACH;FMTTYPE=image/jpeg:https://www.bristolbrewing.com/wp-content/uploads/2024/06/448003439_1076273170653790_5748959983345330011_n.jpg
END:VEVENT
BEGIN:VEVENT
DTSTART;TZID=UTC:20240726T080000
DTEND;TZID=UTC:20240726T170000
DTSTAMP:20260420T081210
CREATED:20240610T172915Z
LAST-MODIFIED:20240610T172915Z
UID:3042-1721980800-1722013200@www.bristolbrewing.com
SUMMARY:Music in the Yard: Tim Meegan Jr. and The 105’s
DESCRIPTION:Chill in the Schoolyard with us every Friday in June and July. Summer vibes abound with live music and Bristolicious beer specials as the day cools off and the week winds down. Come on over!\n–Free–BYO chairs\, but not food or drinks–Supervised kids and dogs are always welcome!
URL:https://www.bristolbrewing.com/event/music-in-the-yard-tim-meegan-jr-and-the-105s/
LOCATION:The Bristol Schoolyard\, 1604 S. Cascade Ave\, Colorado Springs\, 80905\, United States
CATEGORIES:music
ATTACH;FMTTYPE=image/jpeg:https://www.bristolbrewing.com/wp-content/uploads/2024/06/music.jpg
END:VEVENT
BEGIN:VEVENT
DTSTART;TZID=UTC:20240731T183000
DTEND;TZID=UTC:20240731T200000
DTSTAMP:20260420T081210
CREATED:20240628T193555Z
LAST-MODIFIED:20240628T193555Z
UID:3153-1722450600-1722456000@www.bristolbrewing.com
SUMMARY:Trivia Night
DESCRIPTION:Join us in the Wildcat Room on Wednesday nights at 6:30 for trivia hosted by our own Zach Taggart\, and battle for gift card prizes while you have a some Bristol beers!
URL:https://www.bristolbrewing.com/event/trivia-night-15-2-2-2/
LOCATION:The Bristol Pub
CATEGORIES:trivia
ATTACH;FMTTYPE=image/png:https://www.bristolbrewing.com/wp-content/uploads/2024/03/Trivia-Night-Event-Image-1.png
END:VEVENT
END:VCALENDAR