BEGIN:VCALENDAR
VERSION:2.0
PRODID:-//Bristol Brewing Company - ECPv6.15.20//NONSGML v1.0//EN
CALSCALE:GREGORIAN
METHOD:PUBLISH
X-ORIGINAL-URL:https://www.bristolbrewing.com
X-WR-CALDESC:Events for Bristol Brewing Company
REFRESH-INTERVAL;VALUE=DURATION:PT1H
X-Robots-Tag:noindex
X-PUBLISHED-TTL:PT1H
BEGIN:VTIMEZONE
TZID:UTC
BEGIN:STANDARD
TZOFFSETFROM:+0000
TZOFFSETTO:+0000
TZNAME:UTC
DTSTART:20240101T000000
END:STANDARD
END:VTIMEZONE
BEGIN:VEVENT
DTSTART;TZID=UTC:20251018T183000
DTEND;TZID=UTC:20251018T223000
DTSTAMP:20260421T145411
CREATED:20250623T212150Z
LAST-MODIFIED:20250623T212150Z
UID:3487-1760812200-1760826600@www.bristolbrewing.com
SUMMARY:Movies Under the Stars - Black Panther
DESCRIPTION:This September\, get ready for the return of Movies Under the Stars! We’re bringing back our FREE outdoor movie showings in the schoolyard\, Saturday nights in September & October! Bring a chair\, bring your appetite to munch on popcorn+beer+scandalously inexpensive movie theater candy and just relax under the stars with us \nHere’s the lineup for 2025:9/6: The Sandlot9/13: Shrek9/20: The Hangover9/27: The Princess Bride10/4: Zombieland10/11: Barbie10/18: Black Panther10/25: Trick ‘r Treat\nHeads up! Sept shows: 7:30pm Oct shows: 6:30pm 
URL:https://www.bristolbrewing.com/event/movies-under-the-stars-black-panther/
LOCATION:The Bristol Schoolyard\, 1604 S. Cascade Ave\, Colorado Springs\, 80905\, United States
CATEGORIES:annual event,outdoor movies,Special Event
ATTACH;FMTTYPE=image/jpeg:https://www.bristolbrewing.com/wp-content/uploads/2025/06/502462420_1116672100492607_2920579410011631791_n.jpg
END:VEVENT
END:VCALENDAR